BEGIN:VCALENDAR
VERSION:2.0
PRODID:-//eventon.com NONSGML v1.0//EN
CALSCALE:GREGORIAN
METHOD:PUBLISH
BEGIN:VEVENT
UID:69e762ec781ae
DTSTAMP:20260421T114340Z
DTSTART:20260428T120000Z
DTEND:20260428T150000Z
LOCATION:Puka Noortekeskus Kooli tänav 6\,  Puka\,  67217 Valga maakond
SUMMARY:Puka Päkapikkude ja Karude matk
DESCRIPTION:Puka Päkapikkude ja Karude matk\nhttps://noortekad.otepaa.ee/e
 vents/puka-pakapikkude-ja-karude-matk/
URL:https://noortekad.otepaa.ee/events/puka-pakapikkude-ja-karude-matk/
END:VEVENT
END:VCALENDAR