BEGIN:VCALENDAR
VERSION:2.0
PRODID:-//eventon.com NONSGML v1.0//EN
CALSCALE:GREGORIAN
METHOD:PUBLISH
BEGIN:VEVENT
UID:69e78ee56aa53
DTSTAMP:20260421T145117Z
DTSTART:20260427T123000Z
DTEND:20260427T140000Z
LOCATION:Puka Noortekeskus Kooli tänav 6\,  Puka\,  67217 Valga maakond
SUMMARY:Kokandusring - teeme ise sushit
DESCRIPTION:Kokandusring - teeme ise sushit\nhttps://noortekad.otepaa.ee/ev
 ents/kokandusring-teeme-ise-sushit/
URL:https://noortekad.otepaa.ee/events/kokandusring-teeme-ise-sushit/
END:VEVENT
END:VCALENDAR