BEGIN:VCALENDAR
VERSION:2.0
PRODID:-//eventon.com NONSGML v1.0//EN
CALSCALE:GREGORIAN
METHOD:PUBLISH
BEGIN:VEVENT
UID:69e7629929fe5
DTSTAMP:20260421T114217Z
DTSTART:20260428T133000Z
DTEND:20260428T150000Z
LOCATION:Keeni Noortekeskus Keeni tee 6\,  Keeni\,  67012 Valga maakond
SUMMARY:Huvigrupi kohtumine
DESCRIPTION:Huvigrupi kohtumine\nhttps://noortekad.otepaa.ee/events/huvigru
 pi-kohtumine/
URL:https://noortekad.otepaa.ee/events/huvigrupi-kohtumine/
END:VEVENT
END:VCALENDAR