BEGIN:VCALENDAR
VERSION:2.0
PRODID:-//eventon.com NONSGML v1.0//EN
CALSCALE:GREGORIAN
METHOD:PUBLISH
BEGIN:VEVENT
UID:69e78e4ed7b62
DTSTAMP:20260421T144846Z
DTSTART:20260421T120000Z
DTEND:20260421T143000Z
LOCATION:Otepää Noortekeskus
SUMMARY:Kokandusring teeme kevadlille küpsiseid
DESCRIPTION:Kokandusring teeme kevadlille küpsiseid\nhttps://noortekad.ote
 paa.ee/events/kokandusring-teeme-kevadlille-kupsiseid/
URL:https://noortekad.otepaa.ee/events/kokandusring-teeme-kevadlille-kupsiseid/
END:VEVENT
END:VCALENDAR