BEGIN:VCALENDAR
VERSION:2.0
PRODID:-//eventon.com NONSGML v1.0//EN
CALSCALE:GREGORIAN
METHOD:PUBLISH
BEGIN:VEVENT
UID:69e7628e78c23
DTSTAMP:20260421T114206Z
DTSTART:20260423T120000Z
DTEND:20260423T143000Z
LOCATION:Otepää Noortekeskus
SUMMARY:Teeme ise seepi
DESCRIPTION:Teeme ise seepi\nhttps://noortekad.otepaa.ee/events/teeme-ise-s
 eepi/
URL:https://noortekad.otepaa.ee/events/teeme-ise-seepi/
END:VEVENT
END:VCALENDAR