BEGIN:VCALENDAR
VERSION:2.0
PRODID:-//eventon.com NONSGML v1.0//EN
CALSCALE:GREGORIAN
METHOD:PUBLISH
BEGIN:VEVENT
UID:69e762adb3c92
DTSTAMP:20260421T114237Z
DTSTART:20260420T050000Z
DTEND:20260427T180000Z
LOCATION:Puka Noortekeskus Kooli tänav 6\,  Puka\,  67217 Valga maakond
SUMMARY:Puka noorsootöötaja puhkab
DESCRIPTION:Puka noorsootöötaja puhkab\nhttps://noortekad.otepaa.ee/event
 s/puka-noorsootootaja-puhkab/
URL:https://noortekad.otepaa.ee/events/puka-noorsootootaja-puhkab/
END:VEVENT
END:VCALENDAR