BEGIN:VCALENDAR
VERSION:2.0
PRODID:-//eventon.com NONSGML v1.0//EN
CALSCALE:GREGORIAN
METHOD:PUBLISH
BEGIN:VEVENT
UID:69e7628e31a1b
DTSTAMP:20260421T114206Z
DTSTART:20260424T113000Z
DTEND:20260424T133000Z
LOCATION:Keeni Noortekeskus Keeni tee 6\,  Keeni\,  67012 Valga maakond
SUMMARY:Loodusring
DESCRIPTION:Loodusring\nhttps://noortekad.otepaa.ee/events/loodusring/
URL:https://noortekad.otepaa.ee/events/loodusring/
END:VEVENT
END:VCALENDAR