BEGIN:VCALENDAR
VERSION:2.0
PRODID:-//eventon.com NONSGML v1.0//EN
CALSCALE:GREGORIAN
METHOD:PUBLISH
BEGIN:VEVENT
UID:69e790096b147
DTSTAMP:20260421T145609Z
DTSTART:20260424T113000Z
DTEND:20260424T140000Z
LOCATION:Keeni Noortekeskus Keeni tee 6\,  Keeni\,  67012 Valga maakond
SUMMARY:Kokandusring: Wrap
DESCRIPTION:Kokandusring: Wrap\nhttps://noortekad.otepaa.ee/events/kokandus
 ring-wrap/
URL:https://noortekad.otepaa.ee/events/kokandusring-wrap/
END:VEVENT
END:VCALENDAR