BEGIN:VCALENDAR
VERSION:2.0
PRODID:-//eventon.com NONSGML v1.0//EN
CALSCALE:GREGORIAN
METHOD:PUBLISH
BEGIN:VEVENT
UID:69e78f14193f1
DTSTAMP:20260421T145204Z
DTSTART:20260401
DTEND:20260501
LOCATION:
SUMMARY:Tarkus Tunnelis
DESCRIPTION:Tarkus Tunnelis\nhttps://noortekad.otepaa.ee/events/tarkus-tunn
 elis-otepaa-ank/
URL:https://noortekad.otepaa.ee/events/tarkus-tunnelis-otepaa-ank/
END:VEVENT
END:VCALENDAR