BEGIN:VCALENDAR
VERSION:2.0
PRODID:-//eventon.com NONSGML v1.0//EN
CALSCALE:GREGORIAN
METHOD:PUBLISH
BEGIN:VEVENT
UID:69e762e85ca53
DTSTAMP:20260421T114336Z
DTSTART:20260430T140000Z
DTEND:20260501T080000Z
LOCATION:Otepää Noortekeskus
SUMMARY:NOORTE VOLBRIÖÖ
DESCRIPTION:NOORTE VOLBRIÖÖ\nhttps://noortekad.otepaa.ee/events/noorte-vo
 lbrioo/
URL:https://noortekad.otepaa.ee/events/noorte-volbrioo/
END:VEVENT
END:VCALENDAR