BEGIN:VCALENDAR
VERSION:2.0
PRODID:-//eventon.com NONSGML v1.0//EN
CALSCALE:GREGORIAN
METHOD:PUBLISH
BEGIN:VEVENT
UID:69e7cbada6cf0
DTSTAMP:20260421T191037Z
DTSTART:20260427T120000Z
DTEND:20260427T140000Z
LOCATION:Otepää Noortekeskus
SUMMARY:KOKANDUSRING- TEEME ISE PITSAT
DESCRIPTION:KOKANDUSRING- TEEME ISE PITSAT\nhttps://noortekad.otepaa.ee/eve
 nts/kokandusring-teeme-ise-pitsat/
URL:https://noortekad.otepaa.ee/events/kokandusring-teeme-ise-pitsat/
END:VEVENT
END:VCALENDAR