BEGIN:VCALENDAR
VERSION:2.0
PRODID:-//eventon.com NONSGML v1.0//EN
CALSCALE:GREGORIAN
METHOD:PUBLISH
BEGIN:VEVENT
UID:69e7626f85413
DTSTAMP:20260421T114135Z
DTSTART:20260503T070000Z
DTEND:20260503T100000Z
LOCATION:Puka Noortekeskus Kooli tänav 6\,  Puka\,  67217 Valga maakond
SUMMARY:Teeme ära - Puka Noorte Talgud
DESCRIPTION:Teeme ära - Puka Noorte Talgud\nhttps://noortekad.otepaa.ee/ev
 ents/1007/
URL:https://noortekad.otepaa.ee/events/1007/
END:VEVENT
END:VCALENDAR