BEGIN:VCALENDAR
VERSION:2.0
PRODID:-//eventon.com NONSGML v1.0//EN
CALSCALE:GREGORIAN
METHOD:PUBLISH
BEGIN:VEVENT
UID:69e762ecbc92e
DTSTAMP:20260421T114340Z
DTSTART:20260430T053000Z
DTEND:20260430T143000Z
LOCATION:Puka Noortekeskus Kooli tänav 6\,  Puka\,  67217 Valga maakond
SUMMARY:Väljasõit Tapa linnakusse
DESCRIPTION:Väljasõit Tapa linnakusse\nhttps://noortekad.otepaa.ee/events
 /valjasoit-tapa-linnakusse/
URL:https://noortekad.otepaa.ee/events/valjasoit-tapa-linnakusse/
END:VEVENT
END:VCALENDAR