BEGIN:VCALENDAR
VERSION:2.0
PRODID:-//eventon.com NONSGML v1.0//EN
CALSCALE:GREGORIAN
METHOD:PUBLISH
BEGIN:VEVENT
UID:69e762adb3aae
DTSTAMP:20260421T114237Z
DTSTART:20260430T140000Z
DTEND:20260430T160000Z
LOCATION:Keeni Noortekeskus Keeni tee 6\,  Keeni\,  67012 Valga maakond
SUMMARY:Filmiõhtu
DESCRIPTION:Filmiõhtu\nhttps://noortekad.otepaa.ee/events/filmiohtu/
URL:https://noortekad.otepaa.ee/events/filmiohtu/
END:VEVENT
END:VCALENDAR