BEGIN:VCALENDAR
VERSION:2.0
PRODID:-//eventon.com NONSGML v1.0//EN
CALSCALE:GREGORIAN
METHOD:PUBLISH
BEGIN:VEVENT
UID:69e78fc5c5393
DTSTAMP:20260421T145501Z
DTSTART:20260427T113000Z
DTEND:20260427T123000Z
LOCATION:Keeni Noortekeskus Keeni tee 6\,  Keeni\,  67012 Valga maakond
SUMMARY:Lauamängude ring - bingo
DESCRIPTION:Lauamängude ring - bingo\nhttps://noortekad.otepaa.ee/events/l
 auamangude-ring-bingo/
URL:https://noortekad.otepaa.ee/events/lauamangude-ring-bingo/
END:VEVENT
END:VCALENDAR